0.14671815672829
0.00000000000000
0.00000000000000
-0.14671815672829
542587.62659991823602
6017454.39980921987444
