0.40086372029291
0.00000000000000
0.00000000000000
-0.40103530745247
540719.78329136443790
6019385.21360448468477
