0.19264072290840
0.00000000000000
0.00000000000000
-0.19264072290840
540781.73839293792844
6019542.13819058611989
