0.21232961443364
0.00000000000000
0.00000000000000
-0.21232961443364
544442.48951774241868
6017168.83892916608602
